BEGIN:VCALENDAR
VERSION:2.0
PRODID:-//Salonnieuws.nl - ECPv5.1.4//NONSGML v1.0//EN
CALSCALE:GREGORIAN
METHOD:PUBLISH
X-WR-CALNAME:Salonnieuws.nl
X-ORIGINAL-URL:https://salonnieuws.nl
X-WR-CALDESC:Evenementen voor Salonnieuws.nl
BEGIN:VTIMEZONE
TZID:Europe/Amsterdam
BEGIN:DAYLIGHT
TZOFFSETFROM:+0100
TZOFFSETTO:+0200
TZNAME:CEST
DTSTART:20170326T010000
END:DAYLIGHT
BEGIN:STANDARD
TZOFFSETFROM:+0200
TZOFFSETTO:+0100
TZNAME:CET
DTSTART:20171029T010000
END:STANDARD
END:VTIMEZONE
BEGIN:VEVENT
DTSTART;TZID=Europe/Amsterdam:20170507T200000
DTEND;TZID=Europe/Amsterdam:20170507T235900
DTSTAMP:20260418T204439
CREATED:20170313T055626Z
LAST-MODIFIED:20170313T055626Z
UID:3446-1494187200-1494201540@salonnieuws.nl
SUMMARY:Uitreiking Coiffure Award 2017
DESCRIPTION:Op zondag 7 mei 2017 vindt bij Studio 21 de gala-uitreiking van de Coiffure Award plaats. Het meest spannende en spectaculaire gala-event uit de branche. Creativiteit en prachtige haarmode staan deze avond centraal en de Award winnaars zijn deze avond de sterren! \nGala-uitreiking\nDit evenement vindt zoals ieder jaar plaats in de vorm van een spectaculair gala. Samen met vele BN’ers en topkappers worden de deelnemers in Studio 21 (http://studio21.nl/ ) te Hilversum\, ontvangen door een zee van journalisten en persfotografen. In de loop van de avond worden Awards uitgereikt\, shows gegeven en een chique diner gehouden. Ervaar de glamour en passie voor het kappersvak tijdens de jaarlijkse uitreiking van de Coiffure Awards\, hét meest prestigieuze event in de kappersbranche. Jij bent er toch ook bij? \n  \n\nKaarten zijn € 207\,50 pst (incl parkeren\, garderobe\, pre-party met drinks & finger food\, 3-gangen diner met alle drank aan tafel\, after party met optreden / all drinks included\, goody bag en natuurlijk de fantastische show met de uitreiking van de Coiffure Awards)\nVoor een tafel (10 plaatsen) geldt het gereduceerd tarief van € 187\,50\n\nKaarten zijn te bestellen via: 0183 50 94 68 \n
URL:https://salonnieuws.nl/evenement/uitreiking-coiffure-award-2017/
LOCATION:Studio 21\, Joop van den Endeplein 7\, Hilversum\, 1217WJ\, Nederland
CATEGORIES:Bijeenkomst
ATTACH;FMTTYPE=image/jpeg:https://salonnieuws.nl/wp-content/uploads/coiffure-award-2017.jpg
END:VEVENT
END:VCALENDAR